BEGIN:VCALENDAR
VERSION:2.0
PRODID:-//Altium Packaging - ECPv6.15.20//NONSGML v1.0//EN
CALSCALE:GREGORIAN
METHOD:PUBLISH
X-WR-CALNAME:Altium Packaging
X-ORIGINAL-URL:https://altiumpkg.com
X-WR-CALDESC:Events for Altium Packaging
REFRESH-INTERVAL;VALUE=DURATION:PT1H
X-Robots-Tag:noindex
X-PUBLISHED-TTL:PT1H
BEGIN:VTIMEZONE
TZID:America/New_York
BEGIN:DAYLIGHT
TZOFFSETFROM:-0500
TZOFFSETTO:-0400
TZNAME:EDT
DTSTART:20250309T070000
END:DAYLIGHT
BEGIN:STANDARD
TZOFFSETFROM:-0400
TZOFFSETTO:-0500
TZNAME:EST
DTSTART:20251102T060000
END:STANDARD
BEGIN:DAYLIGHT
TZOFFSETFROM:-0500
TZOFFSETTO:-0400
TZNAME:EDT
DTSTART:20260308T070000
END:DAYLIGHT
BEGIN:STANDARD
TZOFFSETFROM:-0400
TZOFFSETTO:-0500
TZNAME:EST
DTSTART:20261101T060000
END:STANDARD
BEGIN:DAYLIGHT
TZOFFSETFROM:-0500
TZOFFSETTO:-0400
TZNAME:EDT
DTSTART:20270314T070000
END:DAYLIGHT
BEGIN:STANDARD
TZOFFSETFROM:-0400
TZOFFSETTO:-0500
TZNAME:EST
DTSTART:20271107T060000
END:STANDARD
END:VTIMEZONE
BEGIN:VEVENT
DTSTART;TZID=America/New_York:20260418T080000
DTEND;TZID=America/New_York:20260421T220000
DTSTAMP:20260421T054616
CREATED:20260306T141346Z
LAST-MODIFIED:20260417T181428Z
UID:130484-1776499200-1776808800@altiumpkg.com
SUMMARY:NACDS Annual Meeting
DESCRIPTION:Altium Healthcare will be attending the NACDS Annual Meeting and looks forward to engaging with industry peers and partners throughout the event. If you’re interested in learning more about our healthcare packaging solutions or connecting with our team\, please complete the contact form below. We’ll be happy to follow up with additional information after the meeting. \nAbout the Show\nThe NACDS Annual Meeting is the industry’s most prestigious gathering of its most influential leaders. It is the classic “Top-to-Top” business conference\, attended by industry decision makers. It will give you and your company a unique opportunity to gain new insights into today’s changing marketplace and set your course for the future.
URL:https://altiumpkg.com/event/nacds-annual-meeting-2026/
LOCATION:The Breakers\, 1 S County Rd\, Palm Beach\, FL\, 33480\, United States
CATEGORIES:NACDS,Tradeshow
ATTACH;FMTTYPE=image/jpeg:https://altiumpkg.com/wp-content/uploads/2026/04/NACDS-2026-QR-Code-100.jpg
END:VEVENT
BEGIN:VEVENT
DTSTART;TZID=America/New_York:20260419T120000
DTEND;TZID=America/New_York:20260422T113000
DTSTAMP:20260421T054616
CREATED:20260318T211624Z
LAST-MODIFIED:20260417T192028Z
UID:130494-1776600000-1776857400@altiumpkg.com
SUMMARY:IDN Summit & Reverse ExpoSpring 2026
DESCRIPTION:Altium will not be exhibiting or attending the IDN Tradeshow this year. For those interested in learning more about our products\, please use the contact form below to request additional information. A member of our team will follow up directly. \nAbout the Show\nOver three days\, the most senior healthcare supply chain and pharmacy executives engage with leading suppliers and innovative solutions providers in a uniquely designed in-person event featuring CE-accredited breakout sessions\, visionary keynotes\, senior-level idea exchanges\, and unparalleled product-sourcing opportunities.
URL:https://altiumpkg.com/event/idn-summit-reverse-expospring-2026/
LOCATION:Villas at ChampionsGate\, 1500 Masters Blvd\, Championsgate\, FL\, 33896\, United States
CATEGORIES:IDN Summit,Tradeshow
ATTACH;FMTTYPE=image/jpeg:https://altiumpkg.com/wp-content/uploads/2026/03/IDN-2026-QR-Code.jpg
END:VEVENT
END:VCALENDAR